BEGIN:VCALENDAR
VERSION:2.0
PRODID:-//St Paul&#039;s Church Knightsbridge - ECPv6.15.17//NONSGML v1.0//EN
CALSCALE:GREGORIAN
METHOD:PUBLISH
X-WR-CALNAME:St Paul&#039;s Church Knightsbridge
X-ORIGINAL-URL:https://stpaulsknightsbridge.org
X-WR-CALDESC:Events for St Paul&#039;s Church Knightsbridge
REFRESH-INTERVAL;VALUE=DURATION:PT1H
X-Robots-Tag:noindex
X-PUBLISHED-TTL:PT1H
BEGIN:VTIMEZONE
TZID:UTC
BEGIN:STANDARD
TZOFFSETFROM:+0000
TZOFFSETTO:+0000
TZNAME:UTC
DTSTART:20250101T000000
END:STANDARD
END:VTIMEZONE
BEGIN:VEVENT
DTSTART;TZID=UTC:20260423T183000
DTEND;TZID=UTC:20260423T183000
DTSTAMP:20260423T102231
CREATED:20260326T184317Z
LAST-MODIFIED:20260326T194211Z
UID:10000172-1776969000-1776969000@stpaulsknightsbridge.org
SUMMARY:Gardens of the Bible: exploring nature connection in scripture
DESCRIPTION:Join us for the Eucharist on Thursday evenings in Eastertide from Friday 16th April. The theme of the addresses during this season will be ‘Gardens of the Bible: exploring nature connection in scripture’ – an opportunity to consider the imagery of gardens in the Christian tradition\, serving as sacred spaces for divine presence\, human stewardship\, temptation\, and redemption.
URL:https://stpaulsknightsbridge.org/event/gardens-of-the-bible-exploring-nature-connection-in-scripture/2026-04-23/
LOCATION:Private: St Paul’s\, Knightsbridge\, St Paul's Knightsbridge\, London\, SW1X 8SH\, United Kingdom
CATEGORIES:Thursday Mass
ATTACH;FMTTYPE=image/jpeg:https://stpaulsknightsbridge.org/wp-content/uploads/2026/03/Gardens-of-the-Bible-e1774602389344.jpg
END:VEVENT
END:VCALENDAR