BEGIN:VCALENDAR
VERSION:2.0
PRODID:-//St Paul&#039;s Church Knightsbridge - ECPv6.15.17//NONSGML v1.0//EN
CALSCALE:GREGORIAN
METHOD:PUBLISH
X-ORIGINAL-URL:https://stpaulsknightsbridge.org
X-WR-CALDESC:Events for St Paul&#039;s Church Knightsbridge
REFRESH-INTERVAL;VALUE=DURATION:PT1H
X-Robots-Tag:noindex
X-PUBLISHED-TTL:PT1H
BEGIN:VTIMEZONE
TZID:UTC
BEGIN:STANDARD
TZOFFSETFROM:+0000
TZOFFSETTO:+0000
TZNAME:UTC
DTSTART:20250101T000000
END:STANDARD
END:VTIMEZONE
BEGIN:VEVENT
DTSTART;TZID=UTC:20260606T193000
DTEND;TZID=UTC:20260606T213000
DTSTAMP:20260423T102739
CREATED:20260316T071640Z
LAST-MODIFIED:20260413T201424Z
UID:10000158-1780774200-1780781400@stpaulsknightsbridge.org
SUMMARY:An Evening with Brünnhilde
DESCRIPTION:This unique London concert celebrates the magic of the Drottningholm Court Theatre — a world-renowned 18th-century opera house and UNESCO World Heritage Site\, located within the Drottningholm Royal Palace outside Stockholm. \nPreserved in its entirety — from its original 18th-century stage machinery to its painted sets and auditorium — Drottningholm is unlike any other theatre in the world. Attending a performance there is the closest one can come to experiencing opera as it was in the time of Mozart and Rameau. \nA fundraising concert for the Drottningholm Court Theatre. \nProgramme comprises Scandinavian songs by Grieg\, Sibelius and others. Plus extracts from Wagner operas.\n\nPerformers\nSoprano: Elisabet Strid\nPiano: John Sunderland\nPiano: Michael Papadopoulos\nPresenter: George Shishkovsky\nPresenter: Sir Antonio Pappano\n>CLICK HERE TO BUY TICKETS
URL:https://stpaulsknightsbridge.org/event/an-evening-with-brunnhilde/
LOCATION:St Paul’s\, Knightsbridge\, St Paul's Knightsbridge\, London\, SW1X 8SH\, United Kingdom
CATEGORIES:Events
ATTACH;FMTTYPE=image/webp:https://stpaulsknightsbridge.org/wp-content/uploads/2026/03/Web-Tile.webp
END:VEVENT
BEGIN:VEVENT
DTSTART;TZID=UTC:20260620T150000
DTEND;TZID=UTC:20260620T150000
DTSTAMP:20260423T102739
CREATED:20260316T075246Z
LAST-MODIFIED:20260316T075349Z
UID:10000166-1781967600-1781967600@stpaulsknightsbridge.org
SUMMARY:Songhaven - Dementia-friendly concert series
DESCRIPTION:Songhaven is committed to bringing joy and community connection to people living with dementia through the power of professional music-making in a relaxed and shame-free setting. \nPHONE BOOKINGS: 0207 201 9999 (during business hours) \nTRANSPORT: Bus routes 9\, 10\, 14\, 19\, 22\, 52\, 74\, 137\, 434 to Knightsbridge or Hyde Park Corner or Tube to Knightsbridge or Hyde Park Corner (Piccadilly Line) \nACCESSIBILITY: There is a ramp to the church space for wheelchairs\, but the toilet facilities inside the church itself are not wheelchair accessible. Please contact venue with any specific queries or concerns!
URL:https://stpaulsknightsbridge.org/event/songhaven-dementia-friendly-concert-series/2026-06-20/
CATEGORIES:Songhaven tea concerts
ATTACH;FMTTYPE=image/jpeg:https://stpaulsknightsbridge.org/wp-content/uploads/2025/11/songhavensquare-e1762012909628.jpg
END:VEVENT
END:VCALENDAR